BEGIN:VCALENDAR
VERSION:2.0
PRODID:-//East Cascades Bird Alliance - ECPv6.15.20//NONSGML v1.0//EN
CALSCALE:GREGORIAN
METHOD:PUBLISH
X-ORIGINAL-URL:https://ecbirds.org
X-WR-CALDESC:Events for East Cascades Bird Alliance
REFRESH-INTERVAL;VALUE=DURATION:PT1H
X-Robots-Tag:noindex
X-PUBLISHED-TTL:PT1H
BEGIN:VTIMEZONE
TZID:America/Los_Angeles
BEGIN:DAYLIGHT
TZOFFSETFROM:-0800
TZOFFSETTO:-0700
TZNAME:PDT
DTSTART:20230312T100000
END:DAYLIGHT
BEGIN:STANDARD
TZOFFSETFROM:-0700
TZOFFSETTO:-0800
TZNAME:PST
DTSTART:20231105T090000
END:STANDARD
BEGIN:DAYLIGHT
TZOFFSETFROM:-0800
TZOFFSETTO:-0700
TZNAME:PDT
DTSTART:20240310T100000
END:DAYLIGHT
BEGIN:STANDARD
TZOFFSETFROM:-0700
TZOFFSETTO:-0800
TZNAME:PST
DTSTART:20241103T090000
END:STANDARD
BEGIN:DAYLIGHT
TZOFFSETFROM:-0800
TZOFFSETTO:-0700
TZNAME:PDT
DTSTART:20250309T100000
END:DAYLIGHT
BEGIN:STANDARD
TZOFFSETFROM:-0700
TZOFFSETTO:-0800
TZNAME:PST
DTSTART:20251102T090000
END:STANDARD
END:VTIMEZONE
BEGIN:VEVENT
DTSTART;TZID=America/Los_Angeles:20240302T094500
DTEND;TZID=America/Los_Angeles:20240302T120000
DTSTAMP:20260420T123843
CREATED:20240127T190948Z
LAST-MODIFIED:20240406T214539Z
UID:13652-1709372700-1709380800@ecbirds.org
SUMMARY:Crooked River Wetlands Saturday Bird Walk
DESCRIPTION:Dec-Feb: No wetland walks due to cold temps\, little water\, and few birds.\n~ We will resume on the first Saturday of March. ~  \nVolunteers from the Crooked River Wetlands and Prineville Bird Club sponsor monthly bird walks at the wetlands in Prineville on the first Saturday of the month.  \nThere are a couple of seats on golf carts for those needing some help getting around.  \nNo registration is required.  \nWe will meet at the Wetlands Pavilion\, located at 4035 Rimrock Acres Loop\, Prinveville OR \nWhat to bring/wear:  \n\nDress for 20 degrees colder than it will be. You can always shed layers. \nBinoculars (loaners will also be available) and scopes or camera\, if you have them.\nMeet at the Wetlands pavilion.\n\nFor more information please contact Chuck Gates at 541-280-4957\n \nSponsored by the Prineville Bird Club and the Wetlanders.
URL:https://ecbirds.org/event/crooked-river-wetlands-saturday-bird-walks-2-2/
LOCATION:Crooked River Wetlands Complex\, 4035 NW Rimrock Acres Loop in Prineville\, OR\, 4035 NW Rimrock Acres Loop\, Prineville\, OR\, 97754\, United States
CATEGORIES:Midday Wetland Walks
END:VEVENT
END:VCALENDAR