BEGIN:VCALENDAR
VERSION:2.0
PRODID:-//East Cascades Bird Alliance - ECPv6.15.20//NONSGML v1.0//EN
CALSCALE:GREGORIAN
METHOD:PUBLISH
X-ORIGINAL-URL:https://ecbirds.org
X-WR-CALDESC:Events for East Cascades Bird Alliance
REFRESH-INTERVAL;VALUE=DURATION:PT1H
X-Robots-Tag:noindex
X-PUBLISHED-TTL:PT1H
BEGIN:VTIMEZONE
TZID:America/Los_Angeles
BEGIN:DAYLIGHT
TZOFFSETFROM:-0800
TZOFFSETTO:-0700
TZNAME:PDT
DTSTART:20240310T100000
END:DAYLIGHT
BEGIN:STANDARD
TZOFFSETFROM:-0700
TZOFFSETTO:-0800
TZNAME:PST
DTSTART:20241103T090000
END:STANDARD
BEGIN:DAYLIGHT
TZOFFSETFROM:-0800
TZOFFSETTO:-0700
TZNAME:PDT
DTSTART:20250309T100000
END:DAYLIGHT
BEGIN:STANDARD
TZOFFSETFROM:-0700
TZOFFSETTO:-0800
TZNAME:PST
DTSTART:20251102T090000
END:STANDARD
BEGIN:DAYLIGHT
TZOFFSETFROM:-0800
TZOFFSETTO:-0700
TZNAME:PDT
DTSTART:20260308T100000
END:DAYLIGHT
BEGIN:STANDARD
TZOFFSETFROM:-0700
TZOFFSETTO:-0800
TZNAME:PST
DTSTART:20261101T090000
END:STANDARD
END:VTIMEZONE
BEGIN:VEVENT
DTSTART;TZID=America/Los_Angeles:20251219T140000
DTEND;TZID=America/Los_Angeles:20251219T150000
DTSTAMP:20260425T053657
CREATED:20251120T184530Z
LAST-MODIFIED:20251120T185003Z
UID:16681-1766152800-1766156400@ecbirds.org
SUMMARY:Sisters Library Talk - Lives of Fluffy Birds
DESCRIPTION:Cute but Wild: Discovering the Lives of Fluffy Birds\nStay cozy inside for an afternoon program about our fluffiest local birds while learning about their stories and habitats. From our largest fuzzy owls to the smallest downy nuthatches\, kinglets and bushtits\, we’ll see beyond their unbearable cuteness into their fascinating lives in the natural world around us. \nPresenter: Sevilla Rhoads \nhttps://dpl.libnet.info/event/14830145 \n  \n  \n  \n  \n  \n 
URL:https://ecbirds.org/event/2025-ecba-annual-event-2/
LOCATION:Sisters Public Library\, 110 N Cedar St\, Sisters\, OR\, 97759\, United States
CATEGORIES:Community Events
END:VEVENT
END:VCALENDAR