BEGIN:VCALENDAR
VERSION:2.0
PRODID:-//East Cascades Bird Alliance - ECPv6.15.20//NONSGML v1.0//EN
CALSCALE:GREGORIAN
METHOD:PUBLISH
X-ORIGINAL-URL:https://ecbirds.org
X-WR-CALDESC:Events for East Cascades Bird Alliance
REFRESH-INTERVAL;VALUE=DURATION:PT1H
X-Robots-Tag:noindex
X-PUBLISHED-TTL:PT1H
BEGIN:VTIMEZONE
TZID:America/Los_Angeles
BEGIN:DAYLIGHT
TZOFFSETFROM:-0800
TZOFFSETTO:-0700
TZNAME:PDT
DTSTART:20230312T100000
END:DAYLIGHT
BEGIN:STANDARD
TZOFFSETFROM:-0700
TZOFFSETTO:-0800
TZNAME:PST
DTSTART:20231105T090000
END:STANDARD
BEGIN:DAYLIGHT
TZOFFSETFROM:-0800
TZOFFSETTO:-0700
TZNAME:PDT
DTSTART:20240310T100000
END:DAYLIGHT
BEGIN:STANDARD
TZOFFSETFROM:-0700
TZOFFSETTO:-0800
TZNAME:PST
DTSTART:20241103T090000
END:STANDARD
BEGIN:DAYLIGHT
TZOFFSETFROM:-0800
TZOFFSETTO:-0700
TZNAME:PDT
DTSTART:20250309T100000
END:DAYLIGHT
BEGIN:STANDARD
TZOFFSETFROM:-0700
TZOFFSETTO:-0800
TZNAME:PST
DTSTART:20251102T090000
END:STANDARD
END:VTIMEZONE
BEGIN:VEVENT
DTSTART;TZID=America/Los_Angeles:20240419T190000
DTEND;TZID=America/Los_Angeles:20240419T210000
DTSTAMP:20260420T175905
CREATED:20230906T004713Z
LAST-MODIFIED:20240418T155023Z
UID:13048-1713553200-1713560400@ecbirds.org
SUMMARY:April Birder's Night (rescheduled from January)
DESCRIPTION:April Birders’ Night: Pinyon Jay Conservation–The Power of Community Science.  \nPhoto Credit: Pinyon Jays – Abbott Schindler. \n\nJoin us for Birders’ Night with a presentation on Pinyon Jay Conservation by Ned Bohman from the Great Basin Bird Observatory.\n\n\nNote that we will not be able to offer this program via Zoom.
URL:https://ecbirds.org/event/january-birders-night-2/
LOCATION:Environmental Center\, 16 N.W. Kansas Ave.\, Bend\, OR
CATEGORIES:Birder's Night
ATTACH;FMTTYPE=image/jpeg:https://ecbirds.org/wp-content/uploads/2023/02/Schindler_Abbott_Pinyon-Jays-2022-11-06_206854.jpeg
END:VEVENT
END:VCALENDAR