BEGIN:VCALENDAR
VERSION:2.0
PRODID:-//East Cascades Bird Alliance - ECPv6.15.20//NONSGML v1.0//EN
CALSCALE:GREGORIAN
METHOD:PUBLISH
X-WR-CALNAME:East Cascades Bird Alliance
X-ORIGINAL-URL:https://ecbirds.org
X-WR-CALDESC:Events for East Cascades Bird Alliance
REFRESH-INTERVAL;VALUE=DURATION:PT1H
X-Robots-Tag:noindex
X-PUBLISHED-TTL:PT1H
BEGIN:VTIMEZONE
TZID:America/Los_Angeles
BEGIN:DAYLIGHT
TZOFFSETFROM:-0800
TZOFFSETTO:-0700
TZNAME:PDT
DTSTART:20240310T100000
END:DAYLIGHT
BEGIN:STANDARD
TZOFFSETFROM:-0700
TZOFFSETTO:-0800
TZNAME:PST
DTSTART:20241103T090000
END:STANDARD
BEGIN:DAYLIGHT
TZOFFSETFROM:-0800
TZOFFSETTO:-0700
TZNAME:PDT
DTSTART:20250309T100000
END:DAYLIGHT
BEGIN:STANDARD
TZOFFSETFROM:-0700
TZOFFSETTO:-0800
TZNAME:PST
DTSTART:20251102T090000
END:STANDARD
BEGIN:DAYLIGHT
TZOFFSETFROM:-0800
TZOFFSETTO:-0700
TZNAME:PDT
DTSTART:20260308T100000
END:DAYLIGHT
BEGIN:STANDARD
TZOFFSETFROM:-0700
TZOFFSETTO:-0800
TZNAME:PST
DTSTART:20261101T090000
END:STANDARD
BEGIN:DAYLIGHT
TZOFFSETFROM:-0800
TZOFFSETTO:-0700
TZNAME:PDT
DTSTART:20270314T100000
END:DAYLIGHT
BEGIN:STANDARD
TZOFFSETFROM:-0700
TZOFFSETTO:-0800
TZNAME:PST
DTSTART:20271107T090000
END:STANDARD
END:VTIMEZONE
BEGIN:VEVENT
DTSTART;TZID=America/Los_Angeles:20251022T180000
DTEND;TZID=America/Los_Angeles:20251022T190000
DTSTAMP:20260423T112823
CREATED:20250922T160326Z
LAST-MODIFIED:20250922T160432Z
UID:16386-1761156000-1761159600@ecbirds.org
SUMMARY:What's Next for Oregon's Sagebrush Steppe?
DESCRIPTION:Worthy Garden Club presents: \nDr. Stu Garrett’s presentation on: \nWhat’s Next for Oregon’s Sagebrush Steppe? \nRegister @ bit.ly/sagesteppe \nhttps://www.worthygardenclub.org/ \n 
URL:https://ecbirds.org/event/whats-next-for-oregons-sagebrush-steppe/
LOCATION:Worthy Brewing\, 495 NE Bellevue Dr\, Bend\, OR\, 97701
CATEGORIES:Community Events
END:VEVENT
BEGIN:VEVENT
DTSTART;TZID=America/Los_Angeles:20251025T100000
DTEND;TZID=America/Los_Angeles:20251025T140000
DTSTAMP:20260423T112823
CREATED:20250925T173822Z
LAST-MODIFIED:20250926T153625Z
UID:16447-1761386400-1761400800@ecbirds.org
SUMMARY:ECBA Membership Drive
DESCRIPTION:East Cascades Bird Alliance — Membership Drive\n\n\n\nGet a $20 Gift Card good for day at Wild Birds Unlimited\n\nWhy join ECBA?\n– Support local bird conservation\n– Connect with fellow birders\n– Access exclusive events and resources\n\n  \n  \n 
URL:https://ecbirds.org/event/ecba-membership-drive/
LOCATION:Wild Birds Unlimited\, 2680 NE Hwy 20\, Bend\, OR\, 97701\, United States
CATEGORIES:Community Events
END:VEVENT
BEGIN:VEVENT
DTSTART;TZID=America/Los_Angeles:20251109T160000
DTEND;TZID=America/Los_Angeles:20251109T180000
DTSTAMP:20260423T112823
CREATED:20250630T170106Z
LAST-MODIFIED:20250630T170106Z
UID:16101-1762704000-1762711200@ecbirds.org
SUMMARY:2025 ECBA Annual Event
DESCRIPTION:Join East Cascades Bird Alliance for its 2025 Annual Event. \nAspen Hall at Shevlin Park \n4 – 6 pm \n  \n  \n  \n 
URL:https://ecbirds.org/event/2025-ecba-annual-event/
CATEGORIES:Community Events
ATTACH;FMTTYPE=image/jpeg:https://ecbirds.org/wp-content/uploads/2025/05/scaled_768.jpg
END:VEVENT
BEGIN:VEVENT
DTSTART;TZID=America/Los_Angeles:20251203T180000
DTEND;TZID=America/Los_Angeles:20251203T193000
DTSTAMP:20260423T112823
CREATED:20251122T191919Z
LAST-MODIFIED:20251122T193551Z
UID:16687-1764784800-1764790200@ecbirds.org
SUMMARY:Giving Back to Birds by Contributing Observations to eBird
DESCRIPTION:Seven Capes Bird Alliance invites you to attend the last session in our fall webinar series\, Your Data Is for the Birds\, all about community science and how you can make a difference for bird conservation! Join us for our third and final session\, Giving Back to Birds by Contributing Observations to eBird with Dr. Douglas Robinson on December 3\, 6-7:30 p.m.  eBird is an online community science project managed by the Cornell Lab of Ornithology and the National Audubon Society for birders to record and share their bird sightings. W. Douglas Robinson is Professor of Wildlife Science and Curator of Birds at Oregon State University.\n\n\n\nWhere: Online via Zoom. Webinar is free\, but pre-registration is required. Register at www.sevencapes.org/dataforthebirds.\n\n\n\nWhen: Wednesday\, December 3\, 6-7:30 p.m.\n\n  \n  \n  \n  \n  \n 
URL:https://ecbirds.org/event/giving-back-to-birds-by-contributing-observations-to-ebird/
CATEGORIES:Community Events
END:VEVENT
BEGIN:VEVENT
DTSTART;TZID=America/Los_Angeles:20251219T140000
DTEND;TZID=America/Los_Angeles:20251219T150000
DTSTAMP:20260423T112823
CREATED:20251120T184530Z
LAST-MODIFIED:20251120T185003Z
UID:16681-1766152800-1766156400@ecbirds.org
SUMMARY:Sisters Library Talk - Lives of Fluffy Birds
DESCRIPTION:Cute but Wild: Discovering the Lives of Fluffy Birds\nStay cozy inside for an afternoon program about our fluffiest local birds while learning about their stories and habitats. From our largest fuzzy owls to the smallest downy nuthatches\, kinglets and bushtits\, we’ll see beyond their unbearable cuteness into their fascinating lives in the natural world around us. \nPresenter: Sevilla Rhoads \nhttps://dpl.libnet.info/event/14830145 \n  \n  \n  \n  \n  \n 
URL:https://ecbirds.org/event/2025-ecba-annual-event-2/
LOCATION:Sisters Public Library\, 110 N Cedar St\, Sisters\, OR\, 97759\, United States
CATEGORIES:Community Events
END:VEVENT
BEGIN:VEVENT
DTSTART;TZID=America/Los_Angeles:20260205T180000
DTEND;TZID=America/Los_Angeles:20260205T190000
DTSTAMP:20260423T112823
CREATED:20260112T015158Z
LAST-MODIFIED:20260113T131628Z
UID:16895-1770314400-1770318000@ecbirds.org
SUMMARY:Hardy Garden Club Talk
DESCRIPTION:Hardy Garden Club \nLarkspur Center \nPresenters: Barb Rumer and Wendy Andrick \n  \n  \n  \n  \n  \n 
URL:https://ecbirds.org/event/hardy-garden-club-talk/
CATEGORIES:Community Events
END:VEVENT
BEGIN:VEVENT
DTSTART;TZID=America/Los_Angeles:20260211T090000
DTEND;TZID=America/Los_Angeles:20260211T150000
DTSTAMP:20260423T112823
CREATED:20260112T015728Z
LAST-MODIFIED:20260112T015728Z
UID:16897-1770800400-1770822000@ecbirds.org
SUMMARY:Wildlife Action Day (OR State Capitol)
DESCRIPTION:Let’s speak up for Oregon’s wildlife! Join us for a day of action at the Capitol in Salem.  Many of Oregon’s iconic species\, including Gray Whales\, Chinook Salmon\, Tufted Puffins\, and American Pika are in decline\, and need our help. 1% for Wildlife is a bill with massive potential for boosting wildlife conservation\, and we are pushing hard to get it passed. This bill would raise the tourism tax by 1.25% and use the funds as dedicated wildlife conservation funding– the first of its kind. \nRally outside Capitol building\, meet with legislators\, and build camaraderie with fellow wildlife lovers. \nTo RSVP: \nhttps://birdallianceoregon.org/event/wildlife-action-day/ \n  \n  \n  \n  \n  \n  \n  \n 
URL:https://ecbirds.org/event/wildlife-action-day-or-state-capitol/
CATEGORIES:Community Events
END:VEVENT
BEGIN:VEVENT
DTSTART;VALUE=DATE:20260213
DTEND;VALUE=DATE:20260217
DTSTAMP:20260423T112823
CREATED:20260113T132226Z
LAST-MODIFIED:20260113T132226Z
UID:16929-1770940800-1771286399@ecbirds.org
SUMMARY:Great Backyard Bird Count
DESCRIPTION:Great Backyard Bird Count (GBBC) — Cornell Lab of Ornithology \nSpend time in your favorite places watching birds—then tell us about them! In as little as 15 minutes notice the birds around you. Identify them\, count them\, and submit your counts to help scientists better understand and protect birds around the world. If you already use eBird or Merlin\, your submissions over the 4 days count toward GBBC. \nLearn more: \nhttps://www.birdcount.org/?utm_campaign=32542813-GBBC%202026&utm_medium=email&_hsenc=p2ANqtz-8dGhrzJiNqr09fEYAVzY9kDkJ7PPFEPAQj6D3IaMtqeGnmYlt9-JDwz1TWM9DuAl5Z-Cs8NOnVW9pxVWEOxMMn3o0pmQ&_hsmi=397166623&utm_content=397014121&utm_source=hs_email \n  \n  \n 
URL:https://ecbirds.org/event/great-backyard-bird-count/
CATEGORIES:Community Events
ATTACH;FMTTYPE=image/jpeg:https://ecbirds.org/wp-content/uploads/2023/03/candi-foltz-l23EsqKgDts-unsplash-scaled.jpg
END:VEVENT
BEGIN:VEVENT
DTSTART;TZID=America/Los_Angeles:20260214T100000
DTEND;TZID=America/Los_Angeles:20260214T100000
DTSTAMP:20260423T112823
CREATED:20260126T203257Z
LAST-MODIFIED:20260127T164330Z
UID:16971-1771063200-1771063200@ecbirds.org
SUMMARY:Love is in the Air: Valentine's Bird Program
DESCRIPTION:Saturday February 14th at 10 a.m. starting at the Lakeside Activity Center \nLooking for a nature-themed way to start your Valentine’s Day or just a fun way for the whole family to celebrate love and\nconnection while learning about local birds? \nJoin us to learn about the intriguing and fascinating ‘romantic’ lives of birds in a special family-friendly Valentine’s Day\nBird Program. \nLimited space! For more details or to register early\, please email nature@deifer.net. Accessibility questions welcome! \nCost: $25 per person with free admission for kids under six (food and beverages not included). \nhttps://www.eventbrite.com/e/love-is-in-the-air-a-valentines-day-bird-program-at-black-butte-ranch-tickets-1981443156821?utm-campaign=social&utm-content=attendeeshare&utm-medium=discovery&utm-term=listing&utm-source=cp&aff=ebdsshcopyurl \n 
URL:https://ecbirds.org/event/love-is-in-the-air-valentines-bird-program/
CATEGORIES:Community Events
END:VEVENT
BEGIN:VEVENT
DTSTART;TZID=America/Los_Angeles:20260226T160000
DTEND;TZID=America/Los_Angeles:20260226T190000
DTSTAMP:20260423T112823
CREATED:20260112T020409Z
LAST-MODIFIED:20260113T131813Z
UID:16900-1772121600-1772132400@ecbirds.org
SUMMARY:La Pine Elementary School STEM night (volunteers)
DESCRIPTION:ECBA is looking for volunteers for this event. We will teach students about birds and convey the joy of birding. \n  \n  \n 
URL:https://ecbirds.org/event/la-pine-elementary-school-stem-night-volunteers/
CATEGORIES:Community Events
ATTACH;FMTTYPE=image/jpeg:https://ecbirds.org/wp-content/uploads/2023/03/candi-foltz-l23EsqKgDts-unsplash-scaled.jpg
END:VEVENT
BEGIN:VEVENT
DTSTART;TZID=America/Los_Angeles:20260425T070000
DTEND;TZID=America/Los_Angeles:20260425T090000
DTSTAMP:20260423T112823
CREATED:20260223T215505Z
LAST-MODIFIED:20260420T182741Z
UID:17140-1777100400-1777107600@ecbirds.org
SUMMARY:Birding Bio Blitz at Hatfield Ponds
DESCRIPTION:Join the second day of City Nature Challenge with community bird watching bioblitz event at Hatfield Ponds! \nThe free\, family-friendly bird identification walk is sponsored by Think Wild and East Cascades Bird Alliance. \nCome learn to identify native Central Oregon birds by sight and by sound. Binoculars and field guides are provided. \nRegister at: https://secure.lglforms.com/form_engine/s/Of70_RWsVoI-VIvUX3v7TA \n  \n  \n  \n  \n  \n  \n  \n 
URL:https://ecbirds.org/event/birding-bio-blitz-at-hatfield-ponds/
LOCATION:Hatfield Ponds\, 22395 McGrath Rd\, Bend\, OR\, 97701\, United States
CATEGORIES:Community Events
ATTACH;FMTTYPE=image/jpeg:https://ecbirds.org/wp-content/uploads/2025/05/scaled_768.jpg
END:VEVENT
BEGIN:VEVENT
DTSTART;TZID=America/Los_Angeles:20260425T110000
DTEND;TZID=America/Los_Angeles:20260425T150000
DTSTAMP:20260423T112823
CREATED:20260112T024622Z
LAST-MODIFIED:20260112T024622Z
UID:16909-1777114800-1777129200@ecbirds.org
SUMMARY:2026 Earth Day Fair
DESCRIPTION:Visit the ECBA booth at the 2026 Earth Day Fair at Alpenglow Park in Bend. \nhttps://envirocenter.org/tec-events/earth-day-fair/ \n  \n  \n  \n 
URL:https://ecbirds.org/event/2026-earth-day-fair/
LOCATION:Alpenglow Park\, 61049 SE 15th St\,\, Bend\, OR\, 97702\, United States
CATEGORIES:Community Events
ATTACH;FMTTYPE=image/jpeg:https://ecbirds.org/wp-content/uploads/2023/03/candi-foltz-l23EsqKgDts-unsplash-scaled.jpg
END:VEVENT
BEGIN:VEVENT
DTSTART;VALUE=DATE:20260509
DTEND;VALUE=DATE:20260510
DTSTAMP:20260423T112823
CREATED:20260422T150406Z
LAST-MODIFIED:20260422T150406Z
UID:17543-1778284800-1778371199@ecbirds.org
SUMMARY:World Migratory Bird Day
DESCRIPTION:  \n  \n 
URL:https://ecbirds.org/event/world-migratory-bird-day/
CATEGORIES:Community Events
ATTACH;FMTTYPE=image/jpeg:https://ecbirds.org/wp-content/uploads/2023/03/candi-foltz-l23EsqKgDts-unsplash-scaled.jpg
END:VEVENT
BEGIN:VEVENT
DTSTART;TZID=America/Los_Angeles:20260509T070000
DTEND;TZID=America/Los_Angeles:20260509T090000
DTSTAMP:20260423T112823
CREATED:20260112T022302Z
LAST-MODIFIED:20260422T152111Z
UID:16905-1778310000-1778317200@ecbirds.org
SUMMARY:High Desert Museum - Volunteers needed
DESCRIPTION:High Desert Museum provides an excellent habitat for migratory bird species. Celebrate World Migratory Bird Day by volunteering! \nECBA is looking for 4 more volunteers for Breakfast and Birding at the High Desert museum\, 6:45 – 9:00am. Plus\, we need 2-4 more volunteers for tabling at the museum 10:00-2:00pm.\n\nEmail Wendy Andrick if you are interested in volunteering at:\necba@ecbirds.org\n  \n\n 
URL:https://ecbirds.org/event/high-desert-museum-volunteers-needed/
CATEGORIES:Community Events
ATTACH;FMTTYPE=image/jpeg:https://ecbirds.org/wp-content/uploads/2023/03/candi-foltz-l23EsqKgDts-unsplash-scaled.jpg
END:VEVENT
BEGIN:VEVENT
DTSTART;TZID=America/Los_Angeles:20260514T093000
DTEND;TZID=America/Los_Angeles:20260514T123000
DTSTAMP:20260423T112823
CREATED:20260422T151528Z
LAST-MODIFIED:20260422T152639Z
UID:17545-1778751000-1778761800@ecbirds.org
SUMMARY:Jewell Elementary Outreach - Volunteers needed
DESCRIPTION:Jewell Elementary Education Outreach\nThursday May 14 — In class presentation\nFriday May 15 — Walk to Alpenglow Park to look for birds.\n\n\nThursday\, May 14th: Come to share a presentation and some specimens\, eg bird nests\, eggs or habitat. We just had a field trip that focused on feathers\, feet and beaks with some specimens about this.\n\n\nClass A: 10-10:30am\nClass B: 10:30-11:00\nClass: 11:45-12:15\n\nFriday May 15th: Have a visual/simple word “nature checklist” for students would be great with pencils and clipboards. If you’d like that translated into Spanish\, send us it word document form and we can send it to translation through the district office. That may give students something to do and focus on as they walk.\n\n\n\n\nTentative schedule:\n9:15-9:45am Walk from Jewell to Alpenglow park\n9:45-11:00 Field Trip (hour and 15 minutes)\n11:00-11:15 Lunch (at climbing rock wall section of park)\n11:15-11:45 Walk to return to Jewell\n\n\n\nEmail Wendy Andrick if you are interested in volunteering at:\necba@ecbirds.org\n\n 
URL:https://ecbirds.org/event/jewell-elementary-outreach-volunteers-needed/
CATEGORIES:Community Events
ATTACH;FMTTYPE=image/jpeg:https://ecbirds.org/wp-content/uploads/2023/03/candi-foltz-l23EsqKgDts-unsplash-scaled.jpg
END:VEVENT
BEGIN:VEVENT
DTSTART;TZID=America/Los_Angeles:20260515T090000
DTEND;TZID=America/Los_Angeles:20260515T120000
DTSTAMP:20260423T112823
CREATED:20260422T152406Z
LAST-MODIFIED:20260422T152717Z
UID:17548-1778835600-1778846400@ecbirds.org
SUMMARY:Jewell Elementary Outreach - Volunteers needed
DESCRIPTION:Jewell Elementary Education Outreach\nThursday May 14 — In class presentation\nFriday May 15 — Walk to Alpenglow Park to look for birds.\n\n\n\n\nThursday\, May 14th: Come to share a presentation and some specimens\, eg bird nests\, eggs or habitat. We just had a field trip that focused on feathers\, feet and beaks with some specimens about this.\n\n\nClass A: 10-10:30am\nClass B: 10:30-11:00\nClass: 11:45-12:15\n\nFriday May 15th: Have a visual/simple word “nature checklist” for students would be great with pencils and clipboards. If you’d like that translated into Spanish\, send us it word document form and we can send it to translation through the district office. That may give students something to do and focus on as they walk.\n\n\n\n\nTentative schedule:\n9:15-9:45am Walk from Jewell to Alpenglow park\n9:45-11:00 Field Trip (hour and 15 minutes)\n11:00-11:15 Lunch (at climbing rock wall section of park)\n11:15-11:45 Walk to return to Jewell\n\n\n\nEmail Wendy Andrick if you are interested in volunteering at:\necba@ecbirds.org\n\n 
URL:https://ecbirds.org/event/jewell-elementary-outreach-volunteers-needed-2/
CATEGORIES:Community Events
ATTACH;FMTTYPE=image/jpeg:https://ecbirds.org/wp-content/uploads/2023/03/candi-foltz-l23EsqKgDts-unsplash-scaled.jpg
END:VEVENT
BEGIN:VEVENT
DTSTART;TZID=America/Los_Angeles:20260603T173000
DTEND;TZID=America/Los_Angeles:20260603T190000
DTSTAMP:20260423T112823
CREATED:20260413T022352Z
LAST-MODIFIED:20260413T023123Z
UID:17517-1780507800-1780513200@ecbirds.org
SUMMARY:Author Robert Macfarlane Presentation
DESCRIPTION:Join author Robert Macfarlane for an in‑person event on Wednesday\, June 3rd\, at The Belfry to celebrate his new book “The Book of Birds” and the paperback release of “Is a River Alive?”. \nRobert will be in conversation with Lane Jacobson\, owner of Paulina Springs Books. They’ll talk about the inspirations behind these new books\, how attention to birds and rivers can change the way we move through the world\, and what it means to write about nature in a time of ecological crisis. The conversation will be followed by an audience Q&A. \nAll standard tickets ($35) include one pre-signed copy of The Book of Birds\, which will be available for pickup at the event. Purchase of a standard ticket includes the option to purchase a single guest ticket for $15. \nLearn more and buy tickets at: \nhttps://www.paulinaspringsbooks.com/events/5000820260603 \n  \n  \n  \n 
URL:https://ecbirds.org/event/author-robert-macfarlane-presentation/
LOCATION:Belfry\, 302 E. Main Ave\, Sisters\, OR\, 97759\, United States
CATEGORIES:Community Events
ATTACH;FMTTYPE=image/jpeg:https://ecbirds.org/wp-content/uploads/2025/05/scaled_768.jpg
END:VEVENT
BEGIN:VEVENT
DTSTART;TZID=America/Los_Angeles:20261108T000000
DTEND;TZID=America/Los_Angeles:20261108T000000
DTSTAMP:20260423T112823
CREATED:20260112T021917Z
LAST-MODIFIED:20260112T021937Z
UID:16902-1794096000-1794096000@ecbirds.org
SUMMARY:2026 ECBA Annual Event
DESCRIPTION:Join East Cascades Bird Alliance for its 2026 Annual Event. \n  \n  \n  \n 
URL:https://ecbirds.org/event/2025-ecba-annual-event-3/
CATEGORIES:Community Events
ATTACH;FMTTYPE=image/jpeg:https://ecbirds.org/wp-content/uploads/2025/05/scaled_768.jpg
END:VEVENT
END:VCALENDAR