BEGIN:VCALENDAR
VERSION:2.0
PRODID:-//East Cascades Bird Alliance - ECPv6.15.20//NONSGML v1.0//EN
CALSCALE:GREGORIAN
METHOD:PUBLISH
X-WR-CALNAME:East Cascades Bird Alliance
X-ORIGINAL-URL:https://ecbirds.org
X-WR-CALDESC:Events for East Cascades Bird Alliance
REFRESH-INTERVAL;VALUE=DURATION:PT1H
X-Robots-Tag:noindex
X-PUBLISHED-TTL:PT1H
BEGIN:VTIMEZONE
TZID:America/Los_Angeles
BEGIN:DAYLIGHT
TZOFFSETFROM:-0800
TZOFFSETTO:-0700
TZNAME:PDT
DTSTART:20240310T100000
END:DAYLIGHT
BEGIN:STANDARD
TZOFFSETFROM:-0700
TZOFFSETTO:-0800
TZNAME:PST
DTSTART:20241103T090000
END:STANDARD
BEGIN:DAYLIGHT
TZOFFSETFROM:-0800
TZOFFSETTO:-0700
TZNAME:PDT
DTSTART:20250309T100000
END:DAYLIGHT
BEGIN:STANDARD
TZOFFSETFROM:-0700
TZOFFSETTO:-0800
TZNAME:PST
DTSTART:20251102T090000
END:STANDARD
BEGIN:DAYLIGHT
TZOFFSETFROM:-0800
TZOFFSETTO:-0700
TZNAME:PDT
DTSTART:20260308T100000
END:DAYLIGHT
BEGIN:STANDARD
TZOFFSETFROM:-0700
TZOFFSETTO:-0800
TZNAME:PST
DTSTART:20261101T090000
END:STANDARD
END:VTIMEZONE
BEGIN:VEVENT
DTSTART;TZID=America/Los_Angeles:20250510T080000
DTEND;TZID=America/Los_Angeles:20250510T110000
DTSTAMP:20260420T014712
CREATED:20250422T034331Z
LAST-MODIFIED:20250501T233857Z
UID:15702-1746864000-1746874800@ecbirds.org
SUMMARY:Sunriver Bird Walk
DESCRIPTION:Join ECBA for a free guided bird walk at Sunriver. Meet at the Sunriver Nature Center at 8 am. Walk lasts 3 hours (11am finish). Distance 3-4 miles. Some walking on uneven terrain. Restrooms available midway and at the end. Bring binoculars. Dress for the weather. Walk led by Tom Lawler and Diane Burgess.
URL:https://ecbirds.org/event/sunriver-bird-walk/
LOCATION:Sunriver Nature Center\, 57245 River Rd\, Sunriver\, OR\, 97707\, United States
CATEGORIES:Weekend Field Trips
END:VEVENT
BEGIN:VEVENT
DTSTART;TZID=America/Los_Angeles:20250520T083000
DTEND;TZID=America/Los_Angeles:20250520T113000
DTSTAMP:20260420T014712
CREATED:20250519T160508Z
LAST-MODIFIED:20250519T162710Z
UID:15971-1747729800-1747740600@ecbirds.org
SUMMARY:Ochoco Preserve Bird Walk
DESCRIPTION:Join the Deschutes Land Trust and Aaron Jenkins for a bird walk at Ochoco Preserve. Last year\, the Land Trust completed the second phase of a major project to shape the future of Ochoco Preserve! See firsthand all the work we’ve accomplished to create healthy streams\, flourishing native plants and wildlife\, and new connections for the community. Explore and learn about the Preserve’s waterways (McKay Creek\, Ochoco Creek\, the Crooked River) and watch for water birds\, raptors\, and songbirds. \nHike Rating: This is a moderate ~1-2 mile hike on loose dirt trails. \nRoute: This hike will start at the Ochoco Preserve parking area and follow dirt trails. We may also venture off-trail. Terrain will be uneven at times. \nWhen: Meet at Ochoco Preserve before 8:30am May 20. \nFollow this link to register: \nhttps://www.deschuteslandtrust.org/hikes-events/hikes/bird-walk-6 \n  \n 
URL:https://ecbirds.org/event/ochoco-preserve-bird-walk/
CATEGORIES:Weekend Field Trips
END:VEVENT
BEGIN:VEVENT
DTSTART;TZID=America/Los_Angeles:20250524T073000
DTEND;TZID=America/Los_Angeles:20250524T103000
DTSTAMP:20260420T014712
CREATED:20250422T034437Z
LAST-MODIFIED:20250519T154302Z
UID:15704-1748071800-1748082600@ecbirds.org
SUMMARY:Sunriver Bird Walk
DESCRIPTION:Join ECBA for a free guided bird walk at Sunriver. Meet at the Sunriver Nature Center at 8 am. Walk lasts about 3 hours. Distance 3-4 miles. Some walking on uneven terrain. Restrooms available midway and at the end. Bring binoculars. Dress for the weather. Walk led by Tom Lawler and Diane Burgess.
URL:https://ecbirds.org/event/sunriver-bird-walk-2/
LOCATION:Sunriver Nature Center\, 57245 River Rd\, Sunriver\, OR\, 97707\, United States
CATEGORIES:Weekend Field Trips
END:VEVENT
END:VCALENDAR