BEGIN:VCALENDAR
VERSION:2.0
PRODID:-//East Cascades Bird Alliance - ECPv6.15.20//NONSGML v1.0//EN
CALSCALE:GREGORIAN
METHOD:PUBLISH
X-ORIGINAL-URL:https://ecbirds.org
X-WR-CALDESC:Events for East Cascades Bird Alliance
REFRESH-INTERVAL;VALUE=DURATION:PT1H
X-Robots-Tag:noindex
X-PUBLISHED-TTL:PT1H
BEGIN:VTIMEZONE
TZID:America/Los_Angeles
BEGIN:DAYLIGHT
TZOFFSETFROM:-0800
TZOFFSETTO:-0700
TZNAME:PDT
DTSTART:20220313T100000
END:DAYLIGHT
BEGIN:STANDARD
TZOFFSETFROM:-0700
TZOFFSETTO:-0800
TZNAME:PST
DTSTART:20221106T090000
END:STANDARD
BEGIN:DAYLIGHT
TZOFFSETFROM:-0800
TZOFFSETTO:-0700
TZNAME:PDT
DTSTART:20230312T100000
END:DAYLIGHT
BEGIN:STANDARD
TZOFFSETFROM:-0700
TZOFFSETTO:-0800
TZNAME:PST
DTSTART:20231105T090000
END:STANDARD
BEGIN:DAYLIGHT
TZOFFSETFROM:-0800
TZOFFSETTO:-0700
TZNAME:PDT
DTSTART:20240310T100000
END:DAYLIGHT
BEGIN:STANDARD
TZOFFSETFROM:-0700
TZOFFSETTO:-0800
TZNAME:PST
DTSTART:20241103T090000
END:STANDARD
BEGIN:DAYLIGHT
TZOFFSETFROM:-0800
TZOFFSETTO:-0700
TZNAME:PDT
DTSTART:20250309T100000
END:DAYLIGHT
BEGIN:STANDARD
TZOFFSETFROM:-0700
TZOFFSETTO:-0800
TZNAME:PST
DTSTART:20251102T090000
END:STANDARD
BEGIN:DAYLIGHT
TZOFFSETFROM:-0800
TZOFFSETTO:-0700
TZNAME:PDT
DTSTART:20260308T100000
END:DAYLIGHT
BEGIN:STANDARD
TZOFFSETFROM:-0700
TZOFFSETTO:-0800
TZNAME:PST
DTSTART:20261101T090000
END:STANDARD
END:VTIMEZONE
BEGIN:VTIMEZONE
TZID:UTC
BEGIN:STANDARD
TZOFFSETFROM:+0000
TZOFFSETTO:+0000
TZNAME:UTC
DTSTART:20220101T000000
END:STANDARD
END:VTIMEZONE
BEGIN:VEVENT
DTSTART;TZID=America/Los_Angeles:20250318T173000
DTEND;TZID=America/Los_Angeles:20250318T190000
DTSTAMP:20260422T194731
CREATED:20250310T171843Z
LAST-MODIFIED:20250310T171843Z
UID:15532-1742319000-1742324400@ecbirds.org
SUMMARY:Science Pub: Highways & Wildlife Crossings
DESCRIPTION:The design and use of wildlife crossing structures along the U.S. Highway 97 corridor will be the topic of Oregon State University – Cascades Science Pub titled “When Worlds Collide: Highways and Wildlife Crossings” on March 18. \nSpeaker Corrinne Dombrowski is a wildlife biologist and research analyst in the OSU-Cascades Human and Ecosystem and Resilience Lab. \n  \nThe Science Pub will take place from 5:30 to 7:15 p.m. in the Charles McGrath Family Atrium in Edward J. Ray Hall at OSU-Cascades. Doors open at 5:30 p.m. for networking and dining with the presentation to follow at 6 p.m. \nRegistration is required and on-campus parking is free. \nThe event is $22 per person\, which includes a light\, pub-style\, pre-lecture dinner. The no-host bar will offer beer\, wine\, cider and soft drinks. \nTo register\, visit osucascades.edu/science-pubs. Space is limited to 120 attendees.
URL:https://ecbirds.org/event/epic-journeys-the-lives-of-baby-birds-2-3-2/
CATEGORIES:Presentation
ATTACH;FMTTYPE=image/jpeg:https://ecbirds.org/wp-content/uploads/2022/07/IMG_20190507_155934548_HDR-1-scaled.jpg
END:VEVENT
BEGIN:VEVENT
DTSTART;TZID=America/Los_Angeles:20250226T100000
DTEND;TZID=America/Los_Angeles:20250226T120000
DTSTAMP:20260422T194731
CREATED:20250204T054517Z
LAST-MODIFIED:20250204T054632Z
UID:15391-1740564000-1740571200@ecbirds.org
SUMMARY:USGS Saline Lake Ecosystems 2025 Update
DESCRIPTION:You are invited to join us on a webinar to hear about our upcoming activities in 2025.\n\nThe webinar will be on February 26\, 2025 from 10-noon PT/11-1 pm MT. We will share our 2025 data collection plans across all five science pillars: Waterbird Movement\, Waterbird Aquatic Food Resources and Habitat\, Water Quality\, Water Quantity\, and Remote Sensing. The presentation will be pre-recorded and followed by a live Q&A with the scientists. The presentation will be made available at the Saline Lake Ecosystems IWAA site after the webinar date. \n\n\nYou must register in advance at this site to attend the webinar. \n\n\nVideos from our 2024 Fall webinar series can be found here.
URL:https://ecbirds.org/event/epic-journeys-the-lives-of-baby-birds-2-3/
CATEGORIES:Presentation
ATTACH;FMTTYPE=image/jpeg:https://ecbirds.org/wp-content/uploads/2022/07/IMG_20190507_155934548_HDR-1-scaled.jpg
END:VEVENT
BEGIN:VEVENT
DTSTART;TZID=America/Los_Angeles:20231008T160000
DTEND;TZID=America/Los_Angeles:20231008T190000
DTSTAMP:20260422T194731
CREATED:20230906T003935Z
LAST-MODIFIED:20230929T191707Z
UID:13043-1696780800-1696791600@ecbirds.org
SUMMARY:ECBA Annual Event
DESCRIPTION:Photo credit: Jim Moodie – Pygmy Nuthatches. \n  \nOur Annual Event will be on Sunday\, October 8th at 4pm at Worthy Brewing. ECBA is hoping that you will join us for this special event to socialize with fellow birders\, enjoy some tacos and beverages\, and learn more about birds from Harry Fuller and Chuck Gates. \nRegister/RSVP here \n\nWhere: The Hop Mahal room at Worthy Brewing at 495 NE Bellevue Dr.\, Bend\, OR 97701.\nWhen: Doors open at 4:00pm. Come early\, have a drink\, and hang out with your fellow ECBA birders. Dinner will be served around 5:00. After dinner there will be a short discussion of the 2023 election of Board members and a proposed change to our bylaws. Nominations for vacating Board positions in 2024 can be accepted from the members at this time.\nFood: Worthy Brewing will be whipping up a fantastic taco bar for us\, including the following: Pork Carnitas\, Barbacoa Beef\, Green Chili Chicken\, Seared Rockfish\, Sweet Potato & Poblano\, Corn/Flour Tortillas\, Spanish Rice\, Spiced Black Beans\, Cabbage Slaw\, Pickled Vegetables\, Chips & Salsa\, Radish\, Cotija\, Lime Crema\, Lime Wedges\, and Cilantro. The cost to members is $20. This is partially covered by ECBA. If the cost is prohibitive for you please send an email to ecba@ecbirds.org to discuss alternatives.\nDrinks: no-host bar\n\nRegister/RSVP here \n 
URL:https://ecbirds.org/event/ecas-annual-event/
LOCATION:Worthy Brewing\, 495 NE Bellevue Dr\, Bend\, OR\, 97701
CATEGORIES:Community Events,Monthly Meetings,Presentation
ATTACH;FMTTYPE=image/jpeg:https://ecbirds.org/wp-content/uploads/2023/09/506_0385-scaled.jpeg
END:VEVENT
BEGIN:VEVENT
DTSTART;TZID=UTC:20230206T190000
DTEND;TZID=UTC:20230206T200000
DTSTAMP:20260422T194731
CREATED:20220730T012740Z
LAST-MODIFIED:20230204T003202Z
UID:629-1675710000-1675713600@ecbirds.org
SUMMARY:Refuge Trees: Homestead Era Oases at Malheur NWR
DESCRIPTION:The High Desert Museum will offer a Natural History Pub presentation at McMenamins Old St. Francis School\, 700 NW Bond St.\, in Bend.\nOld stands of largely cottonwood trees grow within Malheur National Wildlife Refuge in Eastern Oregon. Although these trees are not native to the region\, many of the over 340 species of birds that visit Malheur annually depend on these trees to nest\, feed\, and rest. Join Janelle Wicks\, Director of the Friends of Malheur NWR\, to learn about the group’s work to assess the historical and ecological value for the Refuge’s wildlife and the work being done to ensure a future that supports a wildlife oasis in the high desert. \nAttendance is free and open to the public\, but the museum requests those interested to register for the event.
URL:https://ecbirds.org/event/epic-journeys-the-lives-of-baby-birds-2/
CATEGORIES:Presentation
ATTACH;FMTTYPE=image/jpeg:https://ecbirds.org/wp-content/uploads/2022/07/IMG_20190507_155934548_HDR-1-scaled.jpg
END:VEVENT
END:VCALENDAR